BEGIN:VCALENDAR
VERSION:2.0
PRODID:-//TRPD Baseball - ECPv6.15.20//NONSGML v1.0//EN
CALSCALE:GREGORIAN
METHOD:PUBLISH
X-WR-CALNAME:TRPD Baseball
X-ORIGINAL-URL:https://trpdbaseball.com
X-WR-CALDESC:Events for TRPD Baseball
REFRESH-INTERVAL;VALUE=DURATION:PT1H
X-Robots-Tag:noindex
X-PUBLISHED-TTL:PT1H
BEGIN:VTIMEZONE
TZID:UTC
BEGIN:STANDARD
TZOFFSETFROM:+0000
TZOFFSETTO:+0000
TZNAME:UTC
DTSTART:20190101T000000
END:STANDARD
END:VTIMEZONE
BEGIN:VEVENT
DTSTART;TZID=UTC:20200518T183000
DTEND;TZID=UTC:20200518T193000
DTSTAMP:20260423T052236
CREATED:20150916T191709Z
LAST-MODIFIED:20150916T191709Z
UID:5113-1589826600-1589830200@trpdbaseball.com
SUMMARY:Conditioning/Core Course
DESCRIPTION:Conditioning/core course. MW @ 6:30 p.m.
URL:https://trpdbaseball.com/event/conditioning-core-course-2020-05-18/
LOCATION:Lakeway\, TX\, Lakeway\, TX\, United States
CATEGORIES:Training
ATTACH;FMTTYPE=image/jpeg:https://trpdbaseball.com/wp-content/uploads/2015/09/Condition-and-Core-1.jpg
ORGANIZER;CN="Trent Reynolds":MAILTO:trent@trentreynolds.com
END:VEVENT
BEGIN:VEVENT
DTSTART;TZID=UTC:20200518T090000
DTEND;TZID=UTC:20200518T110000
DTSTAMP:20260423T052236
CREATED:20150916T193351Z
LAST-MODIFIED:20150916T193351Z
UID:5115-1589792400-1589799600@trpdbaseball.com
SUMMARY:HS Throwing Program
DESCRIPTION:HS throwing program. Mon-Thurs 9:00 – 11:00 a.m.
URL:https://trpdbaseball.com/event/hs-throwing-program-2020-05-18/
LOCATION:Lakeway\, TX\, Lakeway\, TX\, United States
CATEGORIES:Training
ATTACH;FMTTYPE=image/jpeg:https://trpdbaseball.com/wp-content/uploads/2015/09/trpd-slideshow8.jpg
ORGANIZER;CN="Trent Reynolds":MAILTO:trent@trentreynolds.com
END:VEVENT
BEGIN:VEVENT
DTSTART;TZID=UTC:20200516T190000
DTEND;TZID=UTC:20200516T210000
DTSTAMP:20260423T052236
CREATED:20150916T164836Z
LAST-MODIFIED:20150916T164836Z
UID:5112-1589655600-1589662800@trpdbaseball.com
SUMMARY:Hit Night
DESCRIPTION:Hit Night. Fridays @ 7:00 p.m.
URL:https://trpdbaseball.com/event/hit-night-2020-05-16/
LOCATION:Lakeway\, TX\, Lakeway\, TX\, United States
CATEGORIES:Training
ATTACH;FMTTYPE=image/jpeg:https://trpdbaseball.com/wp-content/uploads/2015/09/Hitting-Reps-Course-1-1.jpg
ORGANIZER;CN="Trent Reynolds":MAILTO:trent@trentreynolds.com
END:VEVENT
BEGIN:VEVENT
DTSTART;TZID=UTC:20200514T090000
DTEND;TZID=UTC:20200514T110000
DTSTAMP:20260423T052236
CREATED:20150916T193351Z
LAST-MODIFIED:20150916T193351Z
UID:5111-1589446800-1589454000@trpdbaseball.com
SUMMARY:HS Throwing Program
DESCRIPTION:HS throwing program. Mon-Thurs 9:00 – 11:00 a.m.
URL:https://trpdbaseball.com/event/hs-throwing-program-2020-05-14/
LOCATION:Lakeway\, TX\, Lakeway\, TX\, United States
CATEGORIES:Training
ATTACH;FMTTYPE=image/jpeg:https://trpdbaseball.com/wp-content/uploads/2015/09/trpd-slideshow8.jpg
ORGANIZER;CN="Trent Reynolds":MAILTO:trent@trentreynolds.com
END:VEVENT
BEGIN:VEVENT
DTSTART;TZID=UTC:20200513T183000
DTEND;TZID=UTC:20200513T193000
DTSTAMP:20260423T052236
CREATED:20150916T191709Z
LAST-MODIFIED:20150916T191709Z
UID:5108-1589394600-1589398200@trpdbaseball.com
SUMMARY:Conditioning/Core Course
DESCRIPTION:Conditioning/core course. MW @ 6:30 p.m.
URL:https://trpdbaseball.com/event/conditioning-core-course-2020-05-13/
LOCATION:Lakeway\, TX\, Lakeway\, TX\, United States
CATEGORIES:Training
ATTACH;FMTTYPE=image/jpeg:https://trpdbaseball.com/wp-content/uploads/2015/09/Condition-and-Core-1.jpg
ORGANIZER;CN="Trent Reynolds":MAILTO:trent@trentreynolds.com
END:VEVENT
BEGIN:VEVENT
DTSTART;TZID=UTC:20200513T090000
DTEND;TZID=UTC:20200513T110000
DTSTAMP:20260423T052236
CREATED:20150916T193351Z
LAST-MODIFIED:20150916T193351Z
UID:5109-1589360400-1589367600@trpdbaseball.com
SUMMARY:HS Throwing Program
DESCRIPTION:HS throwing program. Mon-Thurs 9:00 – 11:00 a.m.
URL:https://trpdbaseball.com/event/hs-throwing-program-2020-05-13/
LOCATION:Lakeway\, TX\, Lakeway\, TX\, United States
CATEGORIES:Training
ATTACH;FMTTYPE=image/jpeg:https://trpdbaseball.com/wp-content/uploads/2015/09/trpd-slideshow8.jpg
ORGANIZER;CN="Trent Reynolds":MAILTO:trent@trentreynolds.com
END:VEVENT
BEGIN:VEVENT
DTSTART;TZID=UTC:20200512T090000
DTEND;TZID=UTC:20200512T110000
DTSTAMP:20260423T052236
CREATED:20150916T193351Z
LAST-MODIFIED:20150916T193351Z
UID:5107-1589274000-1589281200@trpdbaseball.com
SUMMARY:HS Throwing Program
DESCRIPTION:HS throwing program. Mon-Thurs 9:00 – 11:00 a.m.
URL:https://trpdbaseball.com/event/hs-throwing-program-2020-05-12/
LOCATION:Lakeway\, TX\, Lakeway\, TX\, United States
CATEGORIES:Training
ATTACH;FMTTYPE=image/jpeg:https://trpdbaseball.com/wp-content/uploads/2015/09/trpd-slideshow8.jpg
ORGANIZER;CN="Trent Reynolds":MAILTO:trent@trentreynolds.com
END:VEVENT
BEGIN:VEVENT
DTSTART;TZID=UTC:20200511T183000
DTEND;TZID=UTC:20200511T193000
DTSTAMP:20260423T052236
CREATED:20150916T191709Z
LAST-MODIFIED:20150916T191709Z
UID:5104-1589221800-1589225400@trpdbaseball.com
SUMMARY:Conditioning/Core Course
DESCRIPTION:Conditioning/core course. MW @ 6:30 p.m.
URL:https://trpdbaseball.com/event/conditioning-core-course-2020-05-11/
LOCATION:Lakeway\, TX\, Lakeway\, TX\, United States
CATEGORIES:Training
ATTACH;FMTTYPE=image/jpeg:https://trpdbaseball.com/wp-content/uploads/2015/09/Condition-and-Core-1.jpg
ORGANIZER;CN="Trent Reynolds":MAILTO:trent@trentreynolds.com
END:VEVENT
BEGIN:VEVENT
DTSTART;TZID=UTC:20200511T090000
DTEND;TZID=UTC:20200511T110000
DTSTAMP:20260423T052236
CREATED:20150916T193351Z
LAST-MODIFIED:20150916T193351Z
UID:5106-1589187600-1589194800@trpdbaseball.com
SUMMARY:HS Throwing Program
DESCRIPTION:HS throwing program. Mon-Thurs 9:00 – 11:00 a.m.
URL:https://trpdbaseball.com/event/hs-throwing-program-2020-05-11/
LOCATION:Lakeway\, TX\, Lakeway\, TX\, United States
CATEGORIES:Training
ATTACH;FMTTYPE=image/jpeg:https://trpdbaseball.com/wp-content/uploads/2015/09/trpd-slideshow8.jpg
ORGANIZER;CN="Trent Reynolds":MAILTO:trent@trentreynolds.com
END:VEVENT
BEGIN:VEVENT
DTSTART;TZID=UTC:20200509T190000
DTEND;TZID=UTC:20200509T210000
DTSTAMP:20260423T052236
CREATED:20150916T164836Z
LAST-MODIFIED:20150916T164836Z
UID:5103-1589050800-1589058000@trpdbaseball.com
SUMMARY:Hit Night
DESCRIPTION:Hit Night. Fridays @ 7:00 p.m.
URL:https://trpdbaseball.com/event/hit-night-2020-05-09/
LOCATION:Lakeway\, TX\, Lakeway\, TX\, United States
CATEGORIES:Training
ATTACH;FMTTYPE=image/jpeg:https://trpdbaseball.com/wp-content/uploads/2015/09/Hitting-Reps-Course-1-1.jpg
ORGANIZER;CN="Trent Reynolds":MAILTO:trent@trentreynolds.com
END:VEVENT
BEGIN:VEVENT
DTSTART;TZID=UTC:20200507T090000
DTEND;TZID=UTC:20200507T110000
DTSTAMP:20260423T052236
CREATED:20150916T193351Z
LAST-MODIFIED:20150916T193351Z
UID:5102-1588842000-1588849200@trpdbaseball.com
SUMMARY:HS Throwing Program
DESCRIPTION:HS throwing program. Mon-Thurs 9:00 – 11:00 a.m.
URL:https://trpdbaseball.com/event/hs-throwing-program-2020-05-07/
LOCATION:Lakeway\, TX\, Lakeway\, TX\, United States
CATEGORIES:Training
ATTACH;FMTTYPE=image/jpeg:https://trpdbaseball.com/wp-content/uploads/2015/09/trpd-slideshow8.jpg
ORGANIZER;CN="Trent Reynolds":MAILTO:trent@trentreynolds.com
END:VEVENT
BEGIN:VEVENT
DTSTART;TZID=UTC:20200506T183000
DTEND;TZID=UTC:20200506T193000
DTSTAMP:20260423T052236
CREATED:20150916T191709Z
LAST-MODIFIED:20150916T191709Z
UID:5099-1588789800-1588793400@trpdbaseball.com
SUMMARY:Conditioning/Core Course
DESCRIPTION:Conditioning/core course. MW @ 6:30 p.m.
URL:https://trpdbaseball.com/event/conditioning-core-course-2020-05-06/
LOCATION:Lakeway\, TX\, Lakeway\, TX\, United States
CATEGORIES:Training
ATTACH;FMTTYPE=image/jpeg:https://trpdbaseball.com/wp-content/uploads/2015/09/Condition-and-Core-1.jpg
ORGANIZER;CN="Trent Reynolds":MAILTO:trent@trentreynolds.com
END:VEVENT
BEGIN:VEVENT
DTSTART;TZID=UTC:20200506T090000
DTEND;TZID=UTC:20200506T110000
DTSTAMP:20260423T052236
CREATED:20150916T193351Z
LAST-MODIFIED:20150916T193351Z
UID:5100-1588755600-1588762800@trpdbaseball.com
SUMMARY:HS Throwing Program
DESCRIPTION:HS throwing program. Mon-Thurs 9:00 – 11:00 a.m.
URL:https://trpdbaseball.com/event/hs-throwing-program-2020-05-06/
LOCATION:Lakeway\, TX\, Lakeway\, TX\, United States
CATEGORIES:Training
ATTACH;FMTTYPE=image/jpeg:https://trpdbaseball.com/wp-content/uploads/2015/09/trpd-slideshow8.jpg
ORGANIZER;CN="Trent Reynolds":MAILTO:trent@trentreynolds.com
END:VEVENT
BEGIN:VEVENT
DTSTART;TZID=UTC:20200505T090000
DTEND;TZID=UTC:20200505T110000
DTSTAMP:20260423T052236
CREATED:20150916T193351Z
LAST-MODIFIED:20150916T193351Z
UID:5098-1588669200-1588676400@trpdbaseball.com
SUMMARY:HS Throwing Program
DESCRIPTION:HS throwing program. Mon-Thurs 9:00 – 11:00 a.m.
URL:https://trpdbaseball.com/event/hs-throwing-program-2020-05-05/
LOCATION:Lakeway\, TX\, Lakeway\, TX\, United States
CATEGORIES:Training
ATTACH;FMTTYPE=image/jpeg:https://trpdbaseball.com/wp-content/uploads/2015/09/trpd-slideshow8.jpg
ORGANIZER;CN="Trent Reynolds":MAILTO:trent@trentreynolds.com
END:VEVENT
BEGIN:VEVENT
DTSTART;TZID=UTC:20200504T183000
DTEND;TZID=UTC:20200504T193000
DTSTAMP:20260423T052236
CREATED:20150916T191709Z
LAST-MODIFIED:20150916T191709Z
UID:5095-1588617000-1588620600@trpdbaseball.com
SUMMARY:Conditioning/Core Course
DESCRIPTION:Conditioning/core course. MW @ 6:30 p.m.
URL:https://trpdbaseball.com/event/conditioning-core-course-2020-05-04/
LOCATION:Lakeway\, TX\, Lakeway\, TX\, United States
CATEGORIES:Training
ATTACH;FMTTYPE=image/jpeg:https://trpdbaseball.com/wp-content/uploads/2015/09/Condition-and-Core-1.jpg
ORGANIZER;CN="Trent Reynolds":MAILTO:trent@trentreynolds.com
END:VEVENT
BEGIN:VEVENT
DTSTART;TZID=UTC:20200504T090000
DTEND;TZID=UTC:20200504T110000
DTSTAMP:20260423T052236
CREATED:20150916T193351Z
LAST-MODIFIED:20150916T193351Z
UID:5097-1588582800-1588590000@trpdbaseball.com
SUMMARY:HS Throwing Program
DESCRIPTION:HS throwing program. Mon-Thurs 9:00 – 11:00 a.m.
URL:https://trpdbaseball.com/event/hs-throwing-program-2020-05-04/
LOCATION:Lakeway\, TX\, Lakeway\, TX\, United States
CATEGORIES:Training
ATTACH;FMTTYPE=image/jpeg:https://trpdbaseball.com/wp-content/uploads/2015/09/trpd-slideshow8.jpg
ORGANIZER;CN="Trent Reynolds":MAILTO:trent@trentreynolds.com
END:VEVENT
BEGIN:VEVENT
DTSTART;TZID=UTC:20200502T190000
DTEND;TZID=UTC:20200502T210000
DTSTAMP:20260423T052236
CREATED:20150916T164836Z
LAST-MODIFIED:20150916T164836Z
UID:5094-1588446000-1588453200@trpdbaseball.com
SUMMARY:Hit Night
DESCRIPTION:Hit Night. Fridays @ 7:00 p.m.
URL:https://trpdbaseball.com/event/hit-night-2020-05-02/
LOCATION:Lakeway\, TX\, Lakeway\, TX\, United States
CATEGORIES:Training
ATTACH;FMTTYPE=image/jpeg:https://trpdbaseball.com/wp-content/uploads/2015/09/Hitting-Reps-Course-1-1.jpg
ORGANIZER;CN="Trent Reynolds":MAILTO:trent@trentreynolds.com
END:VEVENT
BEGIN:VEVENT
DTSTART;TZID=UTC:20200430T090000
DTEND;TZID=UTC:20200430T110000
DTSTAMP:20260423T052236
CREATED:20150916T193351Z
LAST-MODIFIED:20150916T193351Z
UID:5092-1588237200-1588244400@trpdbaseball.com
SUMMARY:HS Throwing Program
DESCRIPTION:HS throwing program. Mon-Thurs 9:00 – 11:00 a.m.
URL:https://trpdbaseball.com/event/hs-throwing-program-2020-04-30/
LOCATION:Lakeway\, TX\, Lakeway\, TX\, United States
CATEGORIES:Training
ATTACH;FMTTYPE=image/jpeg:https://trpdbaseball.com/wp-content/uploads/2015/09/trpd-slideshow8.jpg
ORGANIZER;CN="Trent Reynolds":MAILTO:trent@trentreynolds.com
END:VEVENT
BEGIN:VEVENT
DTSTART;TZID=UTC:20200429T183000
DTEND;TZID=UTC:20200429T193000
DTSTAMP:20260423T052236
CREATED:20150916T191709Z
LAST-MODIFIED:20150916T191709Z
UID:5089-1588185000-1588188600@trpdbaseball.com
SUMMARY:Conditioning/Core Course
DESCRIPTION:Conditioning/core course. MW @ 6:30 p.m.
URL:https://trpdbaseball.com/event/conditioning-core-course-2020-04-29/
LOCATION:Lakeway\, TX\, Lakeway\, TX\, United States
CATEGORIES:Training
ATTACH;FMTTYPE=image/jpeg:https://trpdbaseball.com/wp-content/uploads/2015/09/Condition-and-Core-1.jpg
ORGANIZER;CN="Trent Reynolds":MAILTO:trent@trentreynolds.com
END:VEVENT
BEGIN:VEVENT
DTSTART;TZID=UTC:20200429T090000
DTEND;TZID=UTC:20200429T110000
DTSTAMP:20260423T052236
CREATED:20150916T193351Z
LAST-MODIFIED:20150916T193351Z
UID:5090-1588150800-1588158000@trpdbaseball.com
SUMMARY:HS Throwing Program
DESCRIPTION:HS throwing program. Mon-Thurs 9:00 – 11:00 a.m.
URL:https://trpdbaseball.com/event/hs-throwing-program-2020-04-29/
LOCATION:Lakeway\, TX\, Lakeway\, TX\, United States
CATEGORIES:Training
ATTACH;FMTTYPE=image/jpeg:https://trpdbaseball.com/wp-content/uploads/2015/09/trpd-slideshow8.jpg
ORGANIZER;CN="Trent Reynolds":MAILTO:trent@trentreynolds.com
END:VEVENT
BEGIN:VEVENT
DTSTART;TZID=UTC:20200428T090000
DTEND;TZID=UTC:20200428T110000
DTSTAMP:20260423T052236
CREATED:20150916T193351Z
LAST-MODIFIED:20150916T193351Z
UID:5088-1588064400-1588071600@trpdbaseball.com
SUMMARY:HS Throwing Program
DESCRIPTION:HS throwing program. Mon-Thurs 9:00 – 11:00 a.m.
URL:https://trpdbaseball.com/event/hs-throwing-program-2020-04-28/
LOCATION:Lakeway\, TX\, Lakeway\, TX\, United States
CATEGORIES:Training
ATTACH;FMTTYPE=image/jpeg:https://trpdbaseball.com/wp-content/uploads/2015/09/trpd-slideshow8.jpg
ORGANIZER;CN="Trent Reynolds":MAILTO:trent@trentreynolds.com
END:VEVENT
BEGIN:VEVENT
DTSTART;TZID=UTC:20200427T183000
DTEND;TZID=UTC:20200427T193000
DTSTAMP:20260423T052236
CREATED:20150916T191709Z
LAST-MODIFIED:20150916T191709Z
UID:5085-1588012200-1588015800@trpdbaseball.com
SUMMARY:Conditioning/Core Course
DESCRIPTION:Conditioning/core course. MW @ 6:30 p.m.
URL:https://trpdbaseball.com/event/conditioning-core-course-2020-04-27/
LOCATION:Lakeway\, TX\, Lakeway\, TX\, United States
CATEGORIES:Training
ATTACH;FMTTYPE=image/jpeg:https://trpdbaseball.com/wp-content/uploads/2015/09/Condition-and-Core-1.jpg
ORGANIZER;CN="Trent Reynolds":MAILTO:trent@trentreynolds.com
END:VEVENT
BEGIN:VEVENT
DTSTART;TZID=UTC:20200427T090000
DTEND;TZID=UTC:20200427T110000
DTSTAMP:20260423T052236
CREATED:20150916T193351Z
LAST-MODIFIED:20150916T193351Z
UID:5087-1587978000-1587985200@trpdbaseball.com
SUMMARY:HS Throwing Program
DESCRIPTION:HS throwing program. Mon-Thurs 9:00 – 11:00 a.m.
URL:https://trpdbaseball.com/event/hs-throwing-program-2020-04-27/
LOCATION:Lakeway\, TX\, Lakeway\, TX\, United States
CATEGORIES:Training
ATTACH;FMTTYPE=image/jpeg:https://trpdbaseball.com/wp-content/uploads/2015/09/trpd-slideshow8.jpg
ORGANIZER;CN="Trent Reynolds":MAILTO:trent@trentreynolds.com
END:VEVENT
BEGIN:VEVENT
DTSTART;TZID=UTC:20200425T190000
DTEND;TZID=UTC:20200425T210000
DTSTAMP:20260423T052236
CREATED:20150916T164836Z
LAST-MODIFIED:20150916T164836Z
UID:5084-1587841200-1587848400@trpdbaseball.com
SUMMARY:Hit Night
DESCRIPTION:Hit Night. Fridays @ 7:00 p.m.
URL:https://trpdbaseball.com/event/hit-night-2020-04-25/
LOCATION:Lakeway\, TX\, Lakeway\, TX\, United States
CATEGORIES:Training
ATTACH;FMTTYPE=image/jpeg:https://trpdbaseball.com/wp-content/uploads/2015/09/Hitting-Reps-Course-1-1.jpg
ORGANIZER;CN="Trent Reynolds":MAILTO:trent@trentreynolds.com
END:VEVENT
BEGIN:VEVENT
DTSTART;TZID=UTC:20200423T090000
DTEND;TZID=UTC:20200423T110000
DTSTAMP:20260423T052236
CREATED:20150916T193351Z
LAST-MODIFIED:20150916T193351Z
UID:5083-1587632400-1587639600@trpdbaseball.com
SUMMARY:HS Throwing Program
DESCRIPTION:HS throwing program. Mon-Thurs 9:00 – 11:00 a.m.
URL:https://trpdbaseball.com/event/hs-throwing-program-2020-04-23/
LOCATION:Lakeway\, TX\, Lakeway\, TX\, United States
CATEGORIES:Training
ATTACH;FMTTYPE=image/jpeg:https://trpdbaseball.com/wp-content/uploads/2015/09/trpd-slideshow8.jpg
ORGANIZER;CN="Trent Reynolds":MAILTO:trent@trentreynolds.com
END:VEVENT
BEGIN:VEVENT
DTSTART;TZID=UTC:20200422T183000
DTEND;TZID=UTC:20200422T193000
DTSTAMP:20260423T052236
CREATED:20150916T191709Z
LAST-MODIFIED:20150916T191709Z
UID:5080-1587580200-1587583800@trpdbaseball.com
SUMMARY:Conditioning/Core Course
DESCRIPTION:Conditioning/core course. MW @ 6:30 p.m.
URL:https://trpdbaseball.com/event/conditioning-core-course-2020-04-22/
LOCATION:Lakeway\, TX\, Lakeway\, TX\, United States
CATEGORIES:Training
ATTACH;FMTTYPE=image/jpeg:https://trpdbaseball.com/wp-content/uploads/2015/09/Condition-and-Core-1.jpg
ORGANIZER;CN="Trent Reynolds":MAILTO:trent@trentreynolds.com
END:VEVENT
BEGIN:VEVENT
DTSTART;TZID=UTC:20200422T090000
DTEND;TZID=UTC:20200422T110000
DTSTAMP:20260423T052236
CREATED:20150916T193351Z
LAST-MODIFIED:20150916T193351Z
UID:5081-1587546000-1587553200@trpdbaseball.com
SUMMARY:HS Throwing Program
DESCRIPTION:HS throwing program. Mon-Thurs 9:00 – 11:00 a.m.
URL:https://trpdbaseball.com/event/hs-throwing-program-2020-04-22/
LOCATION:Lakeway\, TX\, Lakeway\, TX\, United States
CATEGORIES:Training
ATTACH;FMTTYPE=image/jpeg:https://trpdbaseball.com/wp-content/uploads/2015/09/trpd-slideshow8.jpg
ORGANIZER;CN="Trent Reynolds":MAILTO:trent@trentreynolds.com
END:VEVENT
BEGIN:VEVENT
DTSTART;TZID=UTC:20200421T090000
DTEND;TZID=UTC:20200421T110000
DTSTAMP:20260423T052236
CREATED:20150916T193351Z
LAST-MODIFIED:20150916T193351Z
UID:5079-1587459600-1587466800@trpdbaseball.com
SUMMARY:HS Throwing Program
DESCRIPTION:HS throwing program. Mon-Thurs 9:00 – 11:00 a.m.
URL:https://trpdbaseball.com/event/hs-throwing-program-2020-04-21/
LOCATION:Lakeway\, TX\, Lakeway\, TX\, United States
CATEGORIES:Training
ATTACH;FMTTYPE=image/jpeg:https://trpdbaseball.com/wp-content/uploads/2015/09/trpd-slideshow8.jpg
ORGANIZER;CN="Trent Reynolds":MAILTO:trent@trentreynolds.com
END:VEVENT
BEGIN:VEVENT
DTSTART;TZID=UTC:20200420T183000
DTEND;TZID=UTC:20200420T193000
DTSTAMP:20260423T052236
CREATED:20150916T191709Z
LAST-MODIFIED:20150916T191709Z
UID:5076-1587407400-1587411000@trpdbaseball.com
SUMMARY:Conditioning/Core Course
DESCRIPTION:Conditioning/core course. MW @ 6:30 p.m.
URL:https://trpdbaseball.com/event/conditioning-core-course-2020-04-20/
LOCATION:Lakeway\, TX\, Lakeway\, TX\, United States
CATEGORIES:Training
ATTACH;FMTTYPE=image/jpeg:https://trpdbaseball.com/wp-content/uploads/2015/09/Condition-and-Core-1.jpg
ORGANIZER;CN="Trent Reynolds":MAILTO:trent@trentreynolds.com
END:VEVENT
BEGIN:VEVENT
DTSTART;TZID=UTC:20200420T090000
DTEND;TZID=UTC:20200420T110000
DTSTAMP:20260423T052236
CREATED:20150916T193351Z
LAST-MODIFIED:20150916T193351Z
UID:5078-1587373200-1587380400@trpdbaseball.com
SUMMARY:HS Throwing Program
DESCRIPTION:HS throwing program. Mon-Thurs 9:00 – 11:00 a.m.
URL:https://trpdbaseball.com/event/hs-throwing-program-2020-04-20/
LOCATION:Lakeway\, TX\, Lakeway\, TX\, United States
CATEGORIES:Training
ATTACH;FMTTYPE=image/jpeg:https://trpdbaseball.com/wp-content/uploads/2015/09/trpd-slideshow8.jpg
ORGANIZER;CN="Trent Reynolds":MAILTO:trent@trentreynolds.com
END:VEVENT
END:VCALENDAR